BEGIN:VCALENDAR
VERSION:2.0
PRODID:-//Mażoretki Polska - ECPv6.15.20//NONSGML v1.0//EN
CALSCALE:GREGORIAN
METHOD:PUBLISH
X-WR-CALNAME:Mażoretki Polska
X-ORIGINAL-URL:https://www.mazoretkipolska.pl/en
X-WR-CALDESC:Events for Mażoretki Polska
REFRESH-INTERVAL;VALUE=DURATION:PT1H
X-Robots-Tag:noindex
X-PUBLISHED-TTL:PT1H
BEGIN:VTIMEZONE
TZID:Europe/Warsaw
BEGIN:DAYLIGHT
TZOFFSETFROM:+0100
TZOFFSETTO:+0200
TZNAME:CEST
DTSTART:20250330T010000
END:DAYLIGHT
BEGIN:STANDARD
TZOFFSETFROM:+0200
TZOFFSETTO:+0100
TZNAME:CET
DTSTART:20251026T010000
END:STANDARD
BEGIN:DAYLIGHT
TZOFFSETFROM:+0100
TZOFFSETTO:+0200
TZNAME:CEST
DTSTART:20260329T010000
END:DAYLIGHT
BEGIN:STANDARD
TZOFFSETFROM:+0200
TZOFFSETTO:+0100
TZNAME:CET
DTSTART:20261025T010000
END:STANDARD
BEGIN:DAYLIGHT
TZOFFSETFROM:+0100
TZOFFSETTO:+0200
TZNAME:CEST
DTSTART:20270328T010000
END:DAYLIGHT
BEGIN:STANDARD
TZOFFSETFROM:+0200
TZOFFSETTO:+0100
TZNAME:CET
DTSTART:20271031T010000
END:STANDARD
END:VTIMEZONE
BEGIN:VEVENT
DTSTART;TZID=Europe/Warsaw:20260501T000000
DTEND;TZID=Europe/Warsaw:20260501T235959
DTSTAMP:20260418T175624
CREATED:20260319T100639Z
LAST-MODIFIED:20260415T160722Z
UID:512-1777593600-1777679999@www.mazoretkipolska.pl
SUMMARY:[SMTiChP] XIV Otwarte Mistrzostwa Mażoretek Polski Południowo-Wschodniej 2026 - Dobczyce
DESCRIPTION:XIV Otwarte Mistrzostwa Mażoretek Polski Południowo-Wschodniej to jedno z ważnych wydarzeń w kalendarzu mażoretkowym sezonu 2026. Turniej odbędzie się 1 maja 2026 roku w Dobczycach\, a miejscem rywalizacji będzie Hala Sportowa Miejsko-Gminnego Ośrodka Kultury i Sportu. \n\n\n\nWydarzenie zgromadzi zespoły i zawodniczki rywalizujące w południowo-wschodniej części Polski\, tworząc przestrzeń do sportowej rywalizacji\, prezentacji choreografii i spotkania środowiska mażoretkowego. Tego typu mistrzostwa są ważnym punktem sezonu dla zespołów przygotowujących się do kolejnych startów\, a dla publiczności stanowią świetną okazję do zobaczenia występów pełnych energii\, precyzji i widowiskowości. \n\n\n\nOficjalne rozpoczęcie wydarzenia zaplanowano na godzinę 10:00\, dlatego już od rana hala w Dobczycach wypełni się emocjami\, muzyką i prezentacjami zespołów z różnych kategorii. To wydarzenie będzie ważne zarówno dla uczestników\, trenerów i instruktorów\, jak i dla kibiców\, którzy śledzą rozwój mażoretek w Polsce. \n\n\n\nOrganizatorem mistrzostw jest Stowarzyszenie Mażoretek Tamburmajorek i Cheerleaderek Polskich (SMTiChP). Partnerami wydarzenia są Zespół Taneczny Intox\, MGOKiS Dobczyce oraz Gmina Dobczyce. Wydarzenie odbywa się także pod patronatem Burmistrza Gminy i Miasta Dobczyce i jest współfinansowane z budżetu Gminy Dobczyce. \n\n\n\nXIV Otwarte Mistrzostwa Mażoretek Polski Południowo-Wschodniej w Dobczycach to wydarzenie\, które warto śledzić\, jeśli interesują Cię turnieje mażoretkowe\, rywalizacja zespołów z różnych regionów i najważniejsze starty sezonu pod szyldem SMTiChP.
URL:https://www.mazoretkipolska.pl/en/wydarzenie/mistrzostwa-mazoretek-poludniowo-wschodniej-2026/
LOCATION:Hala Sportowa Miejsko-Gminnego Ośrodka Kultury i Sportu w Dobczycach\, Szkolna 32\, Dobczyce\, Poland
CATEGORIES:Mistrzostwa okręgowe,SMTiChP
ATTACH;FMTTYPE=image/jpeg:https://www.mazoretkipolska.pl/wp-content/uploads/2026/03/plakat_Dobczyce-e1776269135514.jpg
END:VEVENT
BEGIN:VEVENT
DTSTART;TZID=Europe/Warsaw:20260501T000000
DTEND;TZID=Europe/Warsaw:20260503T235959
DTSTAMP:20260418T175624
CREATED:20260319T105014Z
LAST-MODIFIED:20260324T053332Z
UID:557-1777593600-1777852799@www.mazoretkipolska.pl
SUMMARY:[ZSM] Mistrzostwa Polski Solo i Duo-Trio 2026 - Wąsewo
DESCRIPTION:Mistrzostwa Polski Solo i Duo-Trio 2026 to druga ważna część krajowej rywalizacji organizowanej przez Związek Sportowy Mażoretek. Zawody odbędą się w dniach 1-3 maja 2026 roku w Wąsewie\, w Hali GCSiR przy ul. Armii Krajowej 6. \n\n\n\nWydarzenie skupia się na prezentacjach solo oraz duo-trio\, czyli konkurencjach\, które od lat należą do najbardziej widowiskowych i wymagających technicznie części mistrzostw. Regulaminy ZSM 2026 potwierdzają\, że właśnie te formy startu są pełnoprawnymi konkurencjami mistrzowskimi w systemie ZSM. \n\n\n\nMistrzostwa Polski w Wąsewie będą okazją do zobaczenia najlepszych zawodniczek i małych składów z całej Polski\, które zaprezentują swoje choreografie\, technikę pracy z rekwizytem\, precyzję wykonania oraz sceniczny charakter występów. Dla uczestniczek będzie to jeden z kluczowych startów sezonu\, bo właśnie na mistrzostwach Polski rozstrzyga się walka o najwyższe lokaty i tytuły krajowe. Z zasad ZSM 2026 wynika też\, że wyniki Mistrzostw Polski mają znaczenie przy zgłoszeniach do wydarzeń międzynarodowych federacji MWF i IFMS. \n\n\n\nMistrzostwa Polski Solo i Duo-Trio 2026 w Wąsewie to wydarzenie ważne zarówno dla środowiska mażoretkowego\, jak i dla kibiców śledzących rozwój tej dyscypliny w Polsce. To właśnie tutaj liczyć się będą technika\, estetyka\, dynamika i sportowa jakość prezentacji na najwyższym krajowym poziomie. \n\n\n\n\n\nOrganizator\n\n\n\nLokalizacja
URL:https://www.mazoretkipolska.pl/en/wydarzenie/mistrzostwa-polski-zsm-2026-wasewo/
CATEGORIES:Mistrzostwa Polski,ZSM
ATTACH;FMTTYPE=image/jpeg:https://www.mazoretkipolska.pl/wp-content/uploads/2026/03/272a4435-61d9-4aef-b3d6-73110923a1fa-e1773917249928.jpg
END:VEVENT
BEGIN:VEVENT
DTSTART;TZID=Europe/Warsaw:20260502T000000
DTEND;TZID=Europe/Warsaw:20260502T235959
DTSTAMP:20260418T175624
CREATED:20260324T120120Z
LAST-MODIFIED:20260324T120125Z
UID:3735-1777680000-1777766399@www.mazoretkipolska.pl
SUMMARY:Kvalifikační soutěž v twirlingu třídy C a Open 2026 - Kolín
DESCRIPTION:Kvalifikační soutěž v twirlingu třídy C a Open odbędzie się 2 maja 2026 roku w Hali Borky w Kolínie. Wydarzenie zostało zapowiedziane przez Svaz mažoretek a twirlingu České republiky\, czyli czeski związek odpowiedzialny za organizację zawodów w twirlingu i mażoretkach. Już sama nazwa wskazuje\, że będzie to turniej kwalifikacyjny\, a więc zawody istotne dla klubów i zawodniczek walczących o awans do kolejnych etapów sezonu. \n\n\n\nTo wydarzenie jest skierowane do uczestników startujących w klasach C i Open\, co dobrze wpisuje się w dotychczasowy system rozgrywek prowadzonych przez czeski związek. W analogicznych edycjach kwalifikacyjnych publikowanych przez ten sam organizacyjny kanał zawody stanowiły etap prowadzący do Národního twirlingového poháru\, dlatego również edycję 2026 można traktować jako ważny punkt krajowego kalendarza twirlingowego w Czechach. To będzie dzień rywalizacji\, ale też mocna okazja do pokazania nowych choreografii\, formy na początek sezonu i bezpośredniego porównania poziomu pomiędzy klubami z różnych regionów. \n\n\n\nMiejscem zawodów będzie Hala Borky – nowoczesna\, wielofunkcyjna hala sportowa w Kolínie\, wykorzystywana do organizacji wydarzeń sportowych i widowiskowych. Obiekt znajduje się pod adresem Brankovická 1621\, 280 02 Kolín\, Czechy. W źródłach miejskich hala opisywana jest jako ważne sportowe miejsce w Kolínie\, a serwisy kontaktowe obiektu podają też dane operatora i kontakt do hali. \n\n\n\nOrganizatorem wydarzenia jest Svaz mažoretek a twirlingu České republiky\, z.s.. W publicznie dostępnych źródłach firmowych i kontaktowych związek figuruje pod adresem Letohradská 538/26\, 170 00 Praha 7 – Holešovice\, Czechy. W wynikach publicznych można znaleźć numer telefonu organizacji\, ale nie trafiłem na jeden\, wyraźnie oficjalny numer kontaktowy bezpośrednio na stronie związku\, dlatego ten element warto traktować ostrożnie. Pewniejszym kanałem kontaktu pozostaje oficjalny profil wydarzeń i komunikacji związku. \n\n\n\nCałość zapowiada się jako bardzo konkretne\, sportowe wydarzenie dla środowiska twirlingowego w Czechach. Dla uczestników będzie to nie tylko kolejny start w sezonie\, ale przede wszystkim turniej o znaczeniu kwalifikacyjnym\, który może decydować o dalszej ścieżce startowej w krajowych rozgrywkach. Z perspektywy kalendarza mażoretkowo-twirlingowego to zdecydowanie wydarzenie warte odnotowania – zwłaszcza dla osób śledzących czeski sezon i zawody federacyjne IBTF Czech Republic. \n\n\n\n\n\nOrganizator\n\n\n\nLokalizacja
URL:https://www.mazoretkipolska.pl/en/wydarzenie/kwalifikacyjna-soutez-v-twirlingu-c-open-kolin-2026/
CATEGORIES:Mistrzostwa międzynarodowe
ATTACH;FMTTYPE=image/jpeg:https://www.mazoretkipolska.pl/wp-content/uploads/2026/03/Bez-tytuludsdsds-e1774353643802.jpg
END:VEVENT
BEGIN:VEVENT
DTSTART;TZID=Europe/Warsaw:20260509T000000
DTEND;TZID=Europe/Warsaw:20260509T235959
DTSTAMP:20260418T175624
CREATED:20260319T111529Z
LAST-MODIFIED:20260324T053308Z
UID:576-1778284800-1778371199@www.mazoretkipolska.pl
SUMMARY:[MWF] III International Trophy - International Majorette Festival Sunny Side 2026 - Šibenik
DESCRIPTION:International Majorette Festival Sunny Side 2026 to międzynarodowe wydarzenie mażoretkowe\, które odbędzie się 9 maja 2026 roku w Šibeniku w Chorwacji. Miejscem rywalizacji będzie Sport Hall Baldekin\, a organizacja wydarzenia jest powiązana ze środowiskiem MWF – Majorette-sport WORLD Federation oraz chorwacką strukturą mażoretkową publikującą oficjalne materiały i formularz zgłoszeniowy. \n\n\n\nTurniej ma formułę open for all\, co oznacza\, że wydarzenie jest otwarte dla szerokiego grona uczestników. Na plakacie i w publikacjach organizacyjnych pojawiają się kategorie wiekowe kids\, cadets\, juniors\, seniors i adults\, a także szeroki zakres konkurencji\, takich jak solo\, formations\, groups\, baton\, pom pon\, mix\, flag\, mace\, classic\, twirling acrobatic\, traditional oraz drummers. Dzięki temu wydarzenie ma bardzo szeroki\, festiwalowo-turniejowy charakter i może przyciągnąć zarówno solistki\, jak i większe składy. \n\n\n\nW materiałach dotyczących wydarzenia wskazano termin zgłoszeń do 15 kwietnia 2026 roku oraz kontakt mailowy trophysunnyside@gmail.com. To ważna informacja do sekcji organizacyjnej wydarzenia\, szczególnie jeśli chcesz\, by wpis na stronie był od razu praktyczny i gotowy dla zainteresowanych zespołów. \n\n\n\n\n\nOrganizator\n\n\n\nLokalizacja
URL:https://www.mazoretkipolska.pl/en/wydarzenie/international-majorette-mwf-2026/
CATEGORIES:Mistrzostwa Świata,MWF
ATTACH;FMTTYPE=image/jpeg:https://www.mazoretkipolska.pl/wp-content/uploads/2026/03/41292890-5148-4882-8ac0-b69345bfb35a-e1773918868471.jpg
END:VEVENT
BEGIN:VEVENT
DTSTART;TZID=Europe/Warsaw:20260509T000000
DTEND;TZID=Europe/Warsaw:20260509T235959
DTSTAMP:20260418T175624
CREATED:20260319T113817Z
LAST-MODIFIED:20260324T053227Z
UID:584-1778284800-1778371199@www.mazoretkipolska.pl
SUMMARY:[EMTA] Międzynarodowy Puchar Polski EMTA 2026 - Chełmża
DESCRIPTION:Międzynarodowy Puchar Polski EMTA 2026 to jedno z tych wydarzeń\, które mogą mocno zainteresować zespoły szukające startu w otwartej formule i jednocześnie myślące o rywalizacji międzynarodowej. Turniej odbędzie się 9 maja 2026 roku w Chełmży i jest zapowiadany jako kwalifikacje do Mistrzostw Europy EMTA 2026 we Francji. \n\n\n\nZ materiałów promocyjnych wynika\, że wydarzenie przygotowywane jest przez EMTA Polska we współpracy z Mażoretkami Chełmżyńskiego Domu Kultury Luna\, przy czym na grafice jako główny organizator wskazany jest właśnie zespół Luna. To daje bardzo sensowny układ do publikacji na stronie: jako organizatora głównego wpisać Mażoretki Chełmżyńskiego Domu Kultury Luna\, a EMTA Polska dodać jako partnera lub współorganizatora. \n\n\n\nWydarzenie ma charakter otwarty dla wszystkich\, co organizatorzy podkreślają już na grafice promocyjnej. Dodatkowo opublikowano listę uczestników\, z której wynika\, że zainteresowanie turniejem jest szerokie i obejmuje zarówno zespoły\, jak i starty indywidualne. To dobrze buduje rangę wydarzenia i pokazuje\, że Chełmża ma szansę stać się tego dnia naprawdę mocnym punktem na mapie mażoretkowej Polski. \n\n\n\nJeśli chodzi o stronę organizacyjną\, w sieci pojawia się informacja\, że zgłoszenia do Pucharu Polski były przyjmowane do 15 marca 2026 roku. W materiałach promocyjnych przewija się także strona organizacyjna wydarzenia w sekcji EMTA Polska oraz aktywna komunikacja prowadzona przez profile związane z Luną i EMTA Polska. \n\n\n\nMiędzynarodowy Puchar Polski EMTA w Chełmży to więc wydarzenie\, które warto opisać jako otwarty\, międzynarodowy turniej mażoretkowy z kwalifikacją do mistrzostw Europy EMTA. Dla uczestników będzie to okazja do rywalizacji i pokazania układów przed szerszą publicznością\, a dla obserwatorów – szansa\, by śledzić rozwój nowej ścieżki turniejowej pod szyldem EMTA Polska. \n\n\n\n\n\nOrganizator\n\n\n\nLokalizacja
URL:https://www.mazoretkipolska.pl/en/wydarzenie/miedzynarodowy-puchar-polski-emta-2026/
CATEGORIES:EMTA,Mistrzostwa Polski
ATTACH;FMTTYPE=image/jpeg:https://www.mazoretkipolska.pl/wp-content/uploads/2026/03/38c7fda3-c07c-487f-a973-2ec8b68b7dd1-e1773920228156.jpg
ORGANIZER;CN="Ma%C5%BCoretki Che%C5%82m%C5%BCy%C5%84skiego Domu Kultury Luna":MAILTO:mazoretkichok@wp.pl
END:VEVENT
BEGIN:VEVENT
DTSTART;TZID=Europe/Warsaw:20260510T000000
DTEND;TZID=Europe/Warsaw:20260510T235959
DTSTAMP:20260418T175624
CREATED:20260319T101018Z
LAST-MODIFIED:20260324T053212Z
UID:516-1778371200-1778457599@www.mazoretkipolska.pl
SUMMARY:[SMTiChP] XIV Otwarte Mistrzostwa Mażoretek Polski Środkowej 2026 - Sulejów
DESCRIPTION:XIV Otwarte Mistrzostwa Mażoretek Polski Środkowej to jedno z ważnych wydarzeń sezonu mażoretkowego 2026. Turniej odbędzie się 10 maja 2026 roku w Hali Sportowej w Sulejowie\, przy ul. Koneckiej 45. \n\n\n\nWydarzenie ma szczególne znaczenie dla zespołów i zawodniczek przygotowujących się do najważniejszych startów w kraju\, ponieważ jest to równocześnie Estrada Kwalifikacyjna do Mistrzostw Polski Mażoretek 2026 w Kędzierzynie-Koźlu. Dla wielu formacji będzie to bardzo ważny etap sezonu\, związany z walką o nominacje i możliwość dalszej rywalizacji na ogólnopolskim poziomie. \n\n\n\nMistrzostwa w Sulejowie to okazja do zaprezentowania choreografii\, precyzji wykonania\, pracy zespołowej oraz scenicznej energii\, która od lat przyciąga uwagę środowiska mażoretkowego. Tego typu wydarzenia są nie tylko przestrzenią sportowej rywalizacji\, ale też miejscem spotkań zespołów\, trenerów\, instruktorów i kibiców z różnych części Polski. \n\n\n\nZgłoszenia do wydarzenia prowadzone są według kart zgłoszeń. Uczestnicy planujący start powinni śledzić szczegóły organizacyjne oraz terminy przekazywane przez organizatora. Dla zespołów będzie to ważna szansa na sprawdzenie poziomu przygotowania\, zdobycie cennego doświadczenia i zawalczenie o awans do finałowej rywalizacji podczas Mistrzostw Polski Mażoretek 2026. \n\n\n\nJeśli interesują Cię turnieje mażoretkowe\, wydarzenia dla zespołów z całej Polski oraz kwalifikacje do Mistrzostw Polski Mażoretek\, XIV Otwarte Mistrzostwa Mażoretek Polski Środkowej w Sulejowie to wydarzenie\, które zdecydowanie warto mieć na oku.
URL:https://www.mazoretkipolska.pl/en/wydarzenie/mistrzostwa-mazoretek-polski-srodkowej-2026/
END:VEVENT
BEGIN:VEVENT
DTSTART;TZID=Europe/Warsaw:20260516T000000
DTEND;TZID=Europe/Warsaw:20260517T235959
DTSTAMP:20260418T175624
CREATED:20260319T101415Z
LAST-MODIFIED:20260324T053200Z
UID:520-1778889600-1779062399@www.mazoretkipolska.pl
SUMMARY:[SMTiChP] VI Otwarte Mistrzostwa Polski Południowo-Zachodniej 2026 - Gogolin
DESCRIPTION:VI Otwarte Mistrzostwa Polski Południowo-Zachodniej to ważne wydarzenie w kalendarzu mażoretkowym dla zespołów z południowo-zachodniej części kraju. Turniej odbędzie się w dniach 16-17 maja 2026 roku w Hali Sportowej w Gogolinie. \n\n\n\nW zawodach wezmą udział zespoły reprezentujące województwo śląskie i opolskie. Dla wielu formacji będzie to jeden z kluczowych startów sezonu\, ponieważ wydarzenie jest jednocześnie Estradą Kwalifikacyjną do Mistrzostw Polski Mażoretek 2026 w Kędzierzynie-Koźlu. To właśnie tutaj zawodniczki i zespoły będą walczyć o możliwość awansu do najważniejszej krajowej rywalizacji. \n\n\n\nMistrzostwa Polski Południowo-Zachodniej to nie tylko sportowa rywalizacja\, ale też spotkanie środowiska mażoretkowego\, wymiana doświadczeń i prezentacja dopracowanych choreografii przygotowywanych przez wiele miesięcy. Wydarzenie będzie okazją do zobaczenia układów pełnych energii\, precyzji\, pracy zespołowej i scenicznej pasji. \n\n\n\nZgłoszenia prowadzone są według kart zgłoszeń. Dla uczestników będzie to istotny etap sezonu\, pozwalający sprawdzić poziom przygotowania oraz zawalczyć o nominacje do finałowych startów ogólnopolskich. Turniej w Gogolinie z pewnością przyciągnie uwagę zawodniczek\, trenerów\, instruktorów oraz kibiców śledzących rozwój mażoretek w Polsce. \n\n\n\nJeśli interesują Cię turnieje mażoretkowe\, mistrzostwa regionalne i kwalifikacje do Mistrzostw Polski Mażoretek\, VI Otwarte Mistrzostwa Polski Południowo-Zachodniej w Gogolinie to wydarzenie\, które zdecydowanie warto śledzić.
URL:https://www.mazoretkipolska.pl/en/wydarzenie/mistrzostwa-polski-poludniowo-zachodniej-2026/
CATEGORIES:Mistrzostwa okręgowe,SMTiChP
END:VEVENT
BEGIN:VEVENT
DTSTART;TZID=Europe/Warsaw:20260516T000000
DTEND;TZID=Europe/Warsaw:20260517T235959
DTSTAMP:20260418T175624
CREATED:20260319T155236Z
LAST-MODIFIED:20260324T053145Z
UID:603-1778889600-1779062399@www.mazoretkipolska.pl
SUMMARY:[Kábrt Cup] DE Kábrt Cup 2026 - Riesa
DESCRIPTION:Kábrt Cup 2026 to niemiecka odsłona europejskiego cyklu turniejów tanecznych organizowanych przez KÁBRT COMPANY. Wydarzenie odbędzie się 16-17 maja 2026 roku w Riesa\, a miejscem rywalizacji będzie WT Energiesysteme Arena przy Am Sportzentrum 5\, 01589 Riesa\, Germany. \n\n\n\nOficjalna strona organizatora podkreśla\, że w 2026 roku Niemcy po raz pierwszy będą gospodarzem Kábrt Cup jako turnieju kwalifikacyjnego. To ważny element całego projektu\, ponieważ najlepsi uczestnicy tej odsłony mogą uzyskać awans do Euro Kábrt Cup\, czyli finałowej rywalizacji międzynarodowej. \n\n\n\nTurniej ma charakter dance competition\, więc w opisie wydarzenia najlepiej podkreślić jego międzynarodowy\, rozwojowy i kwalifikacyjny wymiar. KÁBRT COMPANY przedstawia ten projekt jako europejski koncept konkursowy\, który w 2026 roku obejmuje kilka krajów\, a zwycięzcy poszczególnych odsłon spotykają się później na Euro Kábrt Cup w Polsce. \n\n\n\nDla uczestników istotna jest też jasna logistyka: wydarzenie odbędzie się w dużej hali widowiskowo-sportowej w Riesa\, a sama arena publikuje oficjalne dane kontaktowe\, w tym telefon i e-mail. To pozwala spokojnie utworzyć zarówno organizatora\, jak i lokalizację w systemie wydarzeń. \n\n\n\n\n\nOrganizator\n\n\n\nLokalizacja
URL:https://www.mazoretkipolska.pl/en/wydarzenie/de-kabrt-cup-2026/
CATEGORIES:Kábrt Cup,Mistrzostwa międzynarodowe
ATTACH;FMTTYPE=image/jpeg:https://www.mazoretkipolska.pl/wp-content/uploads/2026/03/514094249_1317502917049528_5054824413289063172_n-e1773935193645.jpg
END:VEVENT
BEGIN:VEVENT
DTSTART;TZID=Europe/Warsaw:20260523T000000
DTEND;TZID=Europe/Warsaw:20260523T235959
DTSTAMP:20260418T175624
CREATED:20260324T060038Z
LAST-MODIFIED:20260324T060041Z
UID:3703-1779494400-1779580799@www.mazoretkipolska.pl
SUMMARY:Ogólnopolski Turniej Tańca Mażoretkowego Złote Pióro 2026 - Opinogóra Górna
DESCRIPTION:Ogólnopolski Turniej Tańca Mażoretkowego „Złote Pióro” o Puchar Wójta Gminy Opinogóra Górna odbędzie się 23 maja 2026 roku w Opinogórze Górnej. Wydarzenie zostało już wpisane do oficjalnego kalendarza Gminy Opinogóra Górna. \n\n\n\n„Złote Pióro” to turniej\, który był już organizowany w Opinogórze Górnej w poprzednich latach. W komunikacji dotyczącej edycji 2025 jako organizator wskazany był Gminny Ośrodek Kultury w Opinogórze Górnej\, dlatego obecnie to właśnie ten podmiot najbezpieczniej wskazać jako organizatora również przy zapowiedzi edycji 2026 – do czasu publikacji oficjalnego plakatu lub regulaminu. \n\n\n\nNa ten moment nie ma jeszcze szeroko opublikowanych szczegółów dotyczących harmonogramu\, kategorii startowych ani oficjalnego plakatu edycji 2026. Gdy tylko pojawią się kolejne informacje\, opis wydarzenia zostanie uzupełniony.
URL:https://www.mazoretkipolska.pl/en/wydarzenie/zlote-pioro-opinogora-gorna-2026/
LOCATION:Hala sportowa Szkoły Podstawowej im. Zygmunta Krasińskiego\, ul. Zygmunta Krasińskiego 4\, Opinogóra Górna\, woj. mazowieckie\, 06-406\, Poland
CATEGORIES:Konkursy ogólnopolskie,ZSM
ORGANIZER;CN="Gminny O%C5%9Brodek Kultury w Opinog%C3%B3rze G%C3%B3rnej":MAILTO:gok@opinogoragorna.pl
END:VEVENT
BEGIN:VEVENT
DTSTART;TZID=Europe/Warsaw:20260529T080000
DTEND;TZID=Europe/Warsaw:20260531T170000
DTSTAMP:20260418T175624
CREATED:20260319T101736Z
LAST-MODIFIED:20260324T053136Z
UID:524-1780041600-1780246800@www.mazoretkipolska.pl
SUMMARY:[SMTiChP] XXVII Mistrzostwa Polski Mażoretek 2026 - Kędzierzyn-Koźle
DESCRIPTION:XXVII Mistrzostwa Polski Mażoretek to jedno z najważniejszych wydarzeń sezonu 2026 w środowisku mażoretek w Polsce. Zawody odbędą się w dniach 29-31 maja 2026 roku w Kędzierzynie-Koźlu\, w Hali Widowiskowo-Sportowej „Azoty” im. Kazimierza Pietrzyka. \n\n\n\nTurniej zostanie rozegrany według reguł SMTiChP\, a udział w nim wezmą najlepsze zespoły i zawodniczki\, które wywalczą awans podczas wcześniejszych wydarzeń kwalifikacyjnych. To właśnie tutaj rozstrzygnie się walka o tytuły mistrzowskie\, dlatego mistrzostwa w Kędzierzynie-Koźlu mają wyjątkową rangę w całym kalendarzu startów. \n\n\n\nKędzierzyn-Koźle od lat jest mocno związany z dużymi wydarzeniami mażoretkowymi. Miasto już wcześniej gościło mistrzostwa tej rangi\, a sama hala „Azoty” jest obiektem przystosowanym do organizacji dużych wydarzeń sportowych i artystycznych\, co dobrze wpisuje się w charakter mistrzostw Polski. \n\n\n\nXXVII Mistrzostwa Polski Mażoretek 2026 będą dla uczestniczek zwieńczeniem wielu miesięcy przygotowań\, treningów i rywalizacji w sezonie. To wydarzenie\, które co roku przyciąga zawodniczki\, trenerów\, instruktorów\, rodziny i kibiców\, a także wszystkich\, którzy chcą śledzić rozwój mażoretek w Polsce na najwyższym krajowym poziomie. \n\n\n\nJeśli interesują Cię Mistrzostwa Polski Mażoretek\, najważniejsze turnieje SMTiChP i wydarzenia mażoretkowe w Polsce\, XXVII Mistrzostwa Polski Mażoretek w Kędzierzynie-Koźlu to obowiązkowy punkt sezonu 2026. \n\n\n\n\n\nOrganizator\n\n\n\n\n\nLokalizacja
URL:https://www.mazoretkipolska.pl/en/wydarzenie/mistrzostwa-polski-2026-smtichp/
CATEGORIES:Mistrzostwa Polski,SMTiChP
END:VEVENT
BEGIN:VEVENT
DTSTART;TZID=Europe/Warsaw:20260530T000000
DTEND;TZID=Europe/Warsaw:20260530T235959
DTSTAMP:20260418T175624
CREATED:20260324T062610Z
LAST-MODIFIED:20260410T085212Z
UID:3709-1780099200-1780185599@www.mazoretkipolska.pl
SUMMARY:Mażoretkowy Zawrót Głowy 2026 - Racibórz
DESCRIPTION:Mażoretkowy Zawrót Głowy 2026 odbędzie się 30 maja 2026 roku w Raciborzu. Data wydarzenia pojawia się już w oficjalnym ogłoszeniu dotyczącym wyjazdu jednego z zespołów na ten turniej\, co stanowi mocne potwierdzenie terminu. \n\n\n\nW poprzednich latach wydarzenie było organizowane w Raciborzu przez Stowarzyszenie Kultury Ziemi Raciborskiej „Źródło” przy współpracy ze Związkiem Sportowym Mażoretek. Turniej ma swoją stałą pozycję w środowisku i należy do najbardziej charakterystycznych imprez mażoretkowych w regionie. \n\n\n\nNajbardziej prawdopodobną lokalizacją wydarzenia pozostaje Zamek Piastowski w Raciborzu\, gdzie odbywały się wcześniejsze edycje turnieju. Na ten moment nie znalazłam jeszcze osobnego oficjalnego komunikatu dla edycji 2026 z pełnym potwierdzeniem miejsca ani plakatu\, więc tę lokalizację warto jeszcze zweryfikować po publikacji regulaminu lub wydarzenia organizatora. \n\n\n\n\n\nOrganizator\n\n\n\nLokalizacja
URL:https://www.mazoretkipolska.pl/en/wydarzenie/mazoretkowy-zawrot-glowy-raciborz-2026/
CATEGORIES:Konkursy ogólnopolskie,ZSM
ATTACH;FMTTYPE=image/jpeg:https://www.mazoretkipolska.pl/wp-content/uploads/2026/03/668772192_1322991053217681_1101575376432987381_n-e1775803287420.jpg
END:VEVENT
BEGIN:VEVENT
DTSTART;TZID=Europe/Warsaw:20260530T000000
DTEND;TZID=Europe/Warsaw:20260531T235959
DTSTAMP:20260418T175624
CREATED:20260319T155650Z
LAST-MODIFIED:20260324T053102Z
UID:610-1780099200-1780271999@www.mazoretkipolska.pl
SUMMARY:[Kábrt Cup] SK Kábrt Cup 2026 - Žiar nad Hronom
DESCRIPTION:SK Kábrt Cup 2026 to słowacka odsłona międzynarodowego cyklu konkursów tanecznych organizowanych przez KÁBRT COMPANY. Wydarzenie odbędzie się 30-31 maja 2026 roku w Žiarze nad Hronomem\, a miejscem rywalizacji będzie Zimný štadión Žiar nad Hronom przy A. Dubčeka 381/47\, 965 01 Žiar nad Hronom. \n\n\n\nOficjalna strona organizatora opisuje ten turniej jako 5. rocznik Kábrt Cup Slovensko 2026. To ważna informacja\, bo pokazuje\, że nie jest to jednorazowy event\, tylko rozwijana od kilku lat część większego europejskiego projektu. KÁBRT COMPANY podkreśla\, że cały koncept obejmuje kilka krajów\, a najlepsi uczestnicy poszczególnych edycji spotykają się później na Euro Kábrt Cup. \n\n\n\nDla uczestników ważna jest też logistyka. Strona rejestracyjna KÁBRT COMPANY podaje\, że rejestracje do tej odsłony startują 1 grudnia 2025\, a kończą się 31 marca 2026. To warto wpisać przy wydarzeniu\, bo od razu porządkuje najważniejsze informacje organizacyjne. \n\n\n\nWpis na stronie najlepiej prowadzić pod oficjalną nazwą SK Kábrt Cup 2026\, bo tak wydarzenie komunikuje sam organizator. Dzięki temu wszystko będzie spójne z ich stroną\, grafiką i dalszymi materiałami publikowanymi przez KÁBRT COMPANY. \n\n\n\n\n\nOrganizator\n\n\n\nLokalizacja
URL:https://www.mazoretkipolska.pl/en/wydarzenie/sk-kabrt-cup-2026/
CATEGORIES:Kábrt Cup,Mistrzostwa międzynarodowe
ATTACH;FMTTYPE=image/jpeg:https://www.mazoretkipolska.pl/wp-content/uploads/2026/03/513409663_1317503307049489_6784617920674065123_n-e1773935660634.jpg
END:VEVENT
END:VCALENDAR